BEGIN:VCALENDAR
VERSION:2.0
PRODID:gruene-simmerath.de
METHOD:PUBLISH
BEGIN:VTIMEZONE
TZID:Europe/Berlin
X-LIC-LOCATION:Europe/Berlin
BEGIN:DAYLIGHT
TZOFFSETFROM:+0100
TZOFFSETTO:+0200
TZNAME:CEST
DTSTART:19700329T020000
RRULE:FREQ=YEARLY;INTERVAL=1;BYDAY=-1SU;BYMONTH=3
END:DAYLIGHT
BEGIN:STANDARD
TZOFFSETFROM:+0200
TZOFFSETTO:+0100
TZNAME:CET
DTSTART:19701025T030000
RRULE:FREQ=YEARLY;INTERVAL=1;BYDAY=-1SU;BYMONTH=10
END:STANDARD
END:VTIMEZONE
BEGIN:VEVENT
UID:c49a423eafa2e7e696b6cdeb03fbecae@gruene-simmerath.de
URL;VALUE=URI:https://gruene-simmerath.de/termine/oeffentliche-fraktionss
 itzung-2/
LOCATION:Cafeteria Rathaus Simmerath, Rathaus 1, Simmerath
SUMMARY:Öffentliche Fraktionssitzung
DESCRIPTION;ALTREP="data:text/html,%0A%3Cp%3EZum%20%C3%B6ffentlichen%20Te
 il%20unserer%20Fraktionssitzung%20sind%20alle%20Mitglieder%20und%20intere
 ssierte%20B%C3%BCrger%20herzlich%20eingeladen.%3C%2Fp%3E%0A":Zum öffentl
 ichen Teil unserer Fraktionssitzung sind alle Mitglieder und interessiert
 e Bürger herzlich eingeladen.
CLASS:PUBLIC
DTSTART;TZID=Europe/Berlin:20260427T183000
DTEND;TZID=Europe/Berlin:20260427T193000
DTSTAMP:20260424T142315
END:VEVENT
END:VCALENDAR